BEGIN:VCALENDAR
VERSION:2.0
PRODID:-//Rope In Seattle - ECPv6.15.17.1//NONSGML v1.0//EN
CALSCALE:GREGORIAN
METHOD:PUBLISH
X-WR-CALNAME:Rope In Seattle
X-ORIGINAL-URL:https://ropeinseattle.com
X-WR-CALDESC:Events for Rope In Seattle
REFRESH-INTERVAL;VALUE=DURATION:PT1H
X-Robots-Tag:noindex
X-PUBLISHED-TTL:PT1H
BEGIN:VTIMEZONE
TZID:America/Los_Angeles
BEGIN:DAYLIGHT
TZOFFSETFROM:-0800
TZOFFSETTO:-0700
TZNAME:PDT
DTSTART:20250309T100000
END:DAYLIGHT
BEGIN:STANDARD
TZOFFSETFROM:-0700
TZOFFSETTO:-0800
TZNAME:PST
DTSTART:20251102T090000
END:STANDARD
BEGIN:DAYLIGHT
TZOFFSETFROM:-0800
TZOFFSETTO:-0700
TZNAME:PDT
DTSTART:20260308T100000
END:DAYLIGHT
BEGIN:STANDARD
TZOFFSETFROM:-0700
TZOFFSETTO:-0800
TZNAME:PST
DTSTART:20261101T090000
END:STANDARD
BEGIN:DAYLIGHT
TZOFFSETFROM:-0800
TZOFFSETTO:-0700
TZNAME:PDT
DTSTART:20270314T100000
END:DAYLIGHT
BEGIN:STANDARD
TZOFFSETFROM:-0700
TZOFFSETTO:-0800
TZNAME:PST
DTSTART:20271107T090000
END:STANDARD
END:VTIMEZONE
BEGIN:VEVENT
DTSTART;TZID=America/Los_Angeles:20260606T140000
DTEND;TZID=America/Los_Angeles:20260606T170000
DTSTAMP:20260420T073440
CREATED:20260302T025150Z
LAST-MODIFIED:20260302T025420Z
UID:10000149-1780754400-1780765200@ropeinseattle.com
SUMMARY:ECTA Shibari Jam
DESCRIPTION:This is an open gym shibari session for folks to practice skills they already know\, to share knowledge and techniques\, and to build and connect with other folks in the shibari rope community. This is not a play party\, but rather a place to hone your shibari skills. We have plenty of hard points available\, and a lovely red curtain backdrop for folks wanting to get pictures.
URL:https://ropeinseattle.com/event/ecta-shibari-jam/2026-06-06/
LOCATION:ECTA (Emerald City Trapeze Arts)\, 2702 6th Ave S\, Seattle\, WA\, 98134\, United States
CATEGORIES:Jams and Parties
END:VEVENT
END:VCALENDAR