BEGIN:VCALENDAR
VERSION:2.0
PRODID:-//Rope In Seattle - ECPv6.15.17.1//NONSGML v1.0//EN
CALSCALE:GREGORIAN
METHOD:PUBLISH
X-WR-CALNAME:Rope In Seattle
X-ORIGINAL-URL:https://ropeinseattle.com
X-WR-CALDESC:Events for Rope In Seattle
REFRESH-INTERVAL;VALUE=DURATION:PT1H
X-Robots-Tag:noindex
X-PUBLISHED-TTL:PT1H
BEGIN:VTIMEZONE
TZID:America/Los_Angeles
BEGIN:DAYLIGHT
TZOFFSETFROM:-0800
TZOFFSETTO:-0700
TZNAME:PDT
DTSTART:20250309T100000
END:DAYLIGHT
BEGIN:STANDARD
TZOFFSETFROM:-0700
TZOFFSETTO:-0800
TZNAME:PST
DTSTART:20251102T090000
END:STANDARD
BEGIN:DAYLIGHT
TZOFFSETFROM:-0800
TZOFFSETTO:-0700
TZNAME:PDT
DTSTART:20260308T100000
END:DAYLIGHT
BEGIN:STANDARD
TZOFFSETFROM:-0700
TZOFFSETTO:-0800
TZNAME:PST
DTSTART:20261101T090000
END:STANDARD
BEGIN:DAYLIGHT
TZOFFSETFROM:-0800
TZOFFSETTO:-0700
TZNAME:PDT
DTSTART:20270314T100000
END:DAYLIGHT
BEGIN:STANDARD
TZOFFSETFROM:-0700
TZOFFSETTO:-0800
TZNAME:PST
DTSTART:20271107T090000
END:STANDARD
END:VTIMEZONE
BEGIN:VEVENT
DTSTART;TZID=America/Los_Angeles:20260419T110000
DTEND;TZID=America/Los_Angeles:20260419T140000
DTSTAMP:20260421T010618
CREATED:20260311T231240Z
LAST-MODIFIED:20260311T231240Z
UID:10000809-1776596400-1776607200@ropeinseattle.com
SUMMARY:Techniques In Tying: Intermediate Series Workshop
DESCRIPTION:This 3-part series is designed for those who feel confident with single/double columns and are ready for more complexity. Classes will focus on functional rather than decorative patterns\, emphasizing the techniques needed for creating stable ties and understanding how components interact. Those tying will learn how to incorporate play and body manipulation to dive deeper into creating connected\, intentional scenes. Those being tied will learn assessment skills necessary to evaluate stamina and strength in a variety of positions and shapes. Upon completing this series\, students will be prepared for nuanced conversations on individual risk profiles and strategic thinking on pattern construction. \nIn order to benefit from this class\, those tying should be able to confidently use a non-collapsing single column and double column tie\, use simple frictions like munters and half-hitches\, and understand how and when to use forward versus reverse tension. Those being tied should be comfortable stating their rope style preferences and communicating their physical and emotional experiences while in rope. \nThese classes are crafted for partnered learning; attendees need to sign up in pairs. Tying pairs must commit to all classes in the series. Prerequisites\, gear requirements\, and expectations are outlined on the ticketing page. Class dates are 3/15\, 4/19\, and 5/17 from 11am to 2pm.
URL:https://ropeinseattle.com/event/techniques-in-tying-intermediate-series-workshop/2026-04-19/
LOCATION:Subspace
CATEGORIES:Classes and Workshops
ATTACH;FMTTYPE=image/png:https://ropeinseattle.com/wp-content/uploads/2026/03/Bight-Bight-Collective-Final-4.png
END:VEVENT
END:VCALENDAR