BEGIN:VCALENDAR
VERSION:2.0
PRODID:-//Rope In Seattle - ECPv6.15.17.1//NONSGML v1.0//EN
CALSCALE:GREGORIAN
METHOD:PUBLISH
X-WR-CALNAME:Rope In Seattle
X-ORIGINAL-URL:https://ropeinseattle.com
X-WR-CALDESC:Events for Rope In Seattle
REFRESH-INTERVAL;VALUE=DURATION:PT1H
X-Robots-Tag:noindex
X-PUBLISHED-TTL:PT1H
BEGIN:VTIMEZONE
TZID:America/Los_Angeles
BEGIN:DAYLIGHT
TZOFFSETFROM:-0800
TZOFFSETTO:-0700
TZNAME:PDT
DTSTART:20250309T100000
END:DAYLIGHT
BEGIN:STANDARD
TZOFFSETFROM:-0700
TZOFFSETTO:-0800
TZNAME:PST
DTSTART:20251102T090000
END:STANDARD
BEGIN:DAYLIGHT
TZOFFSETFROM:-0800
TZOFFSETTO:-0700
TZNAME:PDT
DTSTART:20260308T100000
END:DAYLIGHT
BEGIN:STANDARD
TZOFFSETFROM:-0700
TZOFFSETTO:-0800
TZNAME:PST
DTSTART:20261101T090000
END:STANDARD
BEGIN:DAYLIGHT
TZOFFSETFROM:-0800
TZOFFSETTO:-0700
TZNAME:PDT
DTSTART:20270314T100000
END:DAYLIGHT
BEGIN:STANDARD
TZOFFSETFROM:-0700
TZOFFSETTO:-0800
TZNAME:PST
DTSTART:20271107T090000
END:STANDARD
END:VTIMEZONE
BEGIN:VEVENT
DTSTART;TZID=America/Los_Angeles:20260425T100000
DTEND;TZID=America/Los_Angeles:20260426T173000
DTSTAMP:20260425T032055
CREATED:20260315T124215Z
LAST-MODIFIED:20260315T124215Z
UID:10000936-1777111200-1777224600@ropeinseattle.com
SUMMARY:Oops! All Transitions
DESCRIPTION:This two-day intensive focuses on dynamic movement in the air and transition heavy scenes. We’ll cover harness stability and multi-point pick-ups to build a strong technical foundation. Couples will practice creating their own repeatable sequences\, developing confidence and muscle memory for more complex transitions. Participants will explore moving through the air with intention\, experimenting with shapes\, flow\, and new sensations. The course emphasizes creative problem-solving\, safe experimentation\, and combining solid technique with expressive\, connected suspension scenes.
URL:https://ropeinseattle.com/event/oops-all-transitions/
LOCATION:The Apartment\, Bellingham\, WA\, United States
CATEGORIES:Classes and Workshops
END:VEVENT
BEGIN:VEVENT
DTSTART;TZID=America/Los_Angeles:20260425T183000
DTEND;TZID=America/Los_Angeles:20260425T203000
DTSTAMP:20260425T032055
CREATED:20260318T003242Z
LAST-MODIFIED:20260318T003242Z
UID:10000937-1777141800-1777149000@ropeinseattle.com
SUMMARY:Partial Suspensions: Futomomo
DESCRIPTION:This rope workshop will be a hand-on class with active participation and rope tying. \nWe will start by establishing aesthetic guidelines and principles for our ties as an overarching theme of the intermediate series. We will focus on a) modular tying\, b) intentionality\, c) nawajiri management\, and d) philosophy of minimalism\, model-centric photography\, and wabi-sabi aesthetics.\nFor the partial suspension class\, we will focus on tying the futomomo in various contexts:\nSiting on the ground\nStanding\nPartial suspension\nFull suspension \nWe will also look at basic uplines with tying a y hanger\, creating a pulley system\, and locking off to bamboo. \nPrerequisites: Single column\, experience with basic chest harness\, basic understandings of tension and rope placement. Basic understanding of uplines (pre-class videos made available at registration). \nRequirements: at least 6 hanks of rope at 20-30+ft in length.
URL:https://ropeinseattle.com/event/partial-suspensions-futomomo/
LOCATION:House of Knotty\, 3100 Airport Way S\, Seattle\, WA\, United States
CATEGORIES:Classes and Workshops
ATTACH;FMTTYPE=image/png:https://ropeinseattle.com/wp-content/uploads/2026/03/futomomo.png
END:VEVENT
END:VCALENDAR