BEGIN:VCALENDAR
VERSION:2.0
PRODID:-//Rope In Seattle - ECPv6.15.17.1//NONSGML v1.0//EN
CALSCALE:GREGORIAN
METHOD:PUBLISH
X-WR-CALNAME:Rope In Seattle
X-ORIGINAL-URL:https://ropeinseattle.com
X-WR-CALDESC:Events for Rope In Seattle
REFRESH-INTERVAL;VALUE=DURATION:PT1H
X-Robots-Tag:noindex
X-PUBLISHED-TTL:PT1H
BEGIN:VTIMEZONE
TZID:America/Los_Angeles
BEGIN:DAYLIGHT
TZOFFSETFROM:-0800
TZOFFSETTO:-0700
TZNAME:PDT
DTSTART:20250309T100000
END:DAYLIGHT
BEGIN:STANDARD
TZOFFSETFROM:-0700
TZOFFSETTO:-0800
TZNAME:PST
DTSTART:20251102T090000
END:STANDARD
BEGIN:DAYLIGHT
TZOFFSETFROM:-0800
TZOFFSETTO:-0700
TZNAME:PDT
DTSTART:20260308T100000
END:DAYLIGHT
BEGIN:STANDARD
TZOFFSETFROM:-0700
TZOFFSETTO:-0800
TZNAME:PST
DTSTART:20261101T090000
END:STANDARD
BEGIN:DAYLIGHT
TZOFFSETFROM:-0800
TZOFFSETTO:-0700
TZNAME:PDT
DTSTART:20270314T100000
END:DAYLIGHT
BEGIN:STANDARD
TZOFFSETFROM:-0700
TZOFFSETTO:-0800
TZNAME:PST
DTSTART:20271107T090000
END:STANDARD
END:VTIMEZONE
BEGIN:VEVENT
DTSTART;TZID=America/Los_Angeles:20260319T190000
DTEND;TZID=America/Los_Angeles:20260319T220000
DTSTAMP:20260420T071021
CREATED:20260311T231412Z
LAST-MODIFIED:20260413T045235Z
UID:10000749-1773946800-1773957600@ropeinseattle.com
SUMMARY:Rope Enthusiasts Chillshare
DESCRIPTION:Join us for a rope bondage skill sharing event in an intentionally quiet space. Whether you’re a curious beginner or have some rope experience\, this event offers a low-stim environment to learn\, practice\, and connect with others. \nMasking Policy:\nMasking with a high quality respirator (kn95 or better) is required. In order to make this event more accessible to the members of our community who are extra cautious about COVID and other respiratory nasties\, we require high-quality masks. No cloth\, no paper/surgical masks. We provide a supply of free high quality masks for those who need one. If you are sick\, please stay home <3 \nWe ask that you keep your mask on as much as you can\, and that you put it on before entering the space. We have a supply of drinking valves and straws that can be used to drink while not removing your mask and folks who would be delighted to show you how to install and use them. Please step outside to eat if that is accessible to you. \nWhat to Expect: \nSkillsharing: Share your rope tips\, tricks\, and experiences in a supportive environment. All are invited to ask questions\, observe what people are doing\, give/request feedback\, show what you know or are in the midst of learning at any level. \nQuieter voices: Please default to speaking only as loudly as needed; hushed voices are great to keep the overall volume down \nStack: When having group conversations\, we recommend using a simplified “taking stack” method to help avoid speaking over and interrupting others. If you’re unfamiliar with this\, please see one of the event hosts! \nWhat to Bring:\n– A mask\, kn95 or better REQUIRED\n– Comfortable clothing suitable for movement\n– Rope (a limited amount of loaner rope may be available for use during the event)\n– A notebook or sketchbook for jotting down tips and insights\n– Ground cover if wanted\n– Ideas for things you’d like to learn or show to others \nDonations:\nThis event asks for a donation of $5. Please contribute what you can to help the Pan Eros Foundation continue to provide space for events like these. \nUnleash your inner bondage nerd\, and discover the joy of quietly mastering a new skill. We’re excited to share this harmonious blend of rope and mindfulness with you! \nHosts for this event are:\n– Soniaiaiai\n– Solo\n– DegradedByDesign\n– TheBoopBandit
URL:https://ropeinseattle.com/event/rope-enthusiasts-chillshare/2026-03-19/
LOCATION:Gallery Erato\, 309 1st Ave S\, Seattle\, WA\, 98104\, United States
CATEGORIES:Jams and Parties
END:VEVENT
BEGIN:VEVENT
DTSTART;TZID=America/Los_Angeles:20260317T183000
DTEND;TZID=America/Los_Angeles:20260317T200000
DTSTAMP:20260420T071021
CREATED:20260302T023321Z
LAST-MODIFIED:20260302T024405Z
UID:10000016-1773772200-1773777600@ropeinseattle.com
SUMMARY:Beginner Shibari
DESCRIPTION:Shibari is the Japanese-inspired practice of aesthetic rope bondage. In this foundational session\, students will learn fundamental ties and techniques to begin their rope journey. Though fundamental\, these techniques can be combined in uncountable ways to produce elaborate shapes and scenarios. Besides learning technical skills\, we will focus on rope bondage as a movement and acrobatic art\, with emphasis on flow\, aesthetics\, and partner connection. This class is appropriate for students that wish to learn shibari as a performing art\, or as a private practice. Attendees can attend solo or as a couple. \nHosted out of a circus school\, this class is ideal for folks that want to explore shibari in a non-kink environment.
URL:https://ropeinseattle.com/event/beginner-shibari/2026-03-17/
LOCATION:ECTA (Emerald City Trapeze Arts)\, 2702 6th Ave S\, Seattle\, WA\, 98134\, United States
CATEGORIES:Classes and Workshops
ATTACH;FMTTYPE=image/png:https://ropeinseattle.com/wp-content/uploads/2026/03/703d8cf9-0eb3-427b-a198-8396c742ac42_Main.png
END:VEVENT
BEGIN:VEVENT
DTSTART;TZID=America/Los_Angeles:20260315T110000
DTEND;TZID=America/Los_Angeles:20260315T140000
DTSTAMP:20260420T071021
CREATED:20260311T231240Z
LAST-MODIFIED:20260311T231240Z
UID:10000717-1773572400-1773583200@ropeinseattle.com
SUMMARY:Techniques In Tying: Intermediate Series Workshop
DESCRIPTION:This 3-part series is designed for those who feel confident with single/double columns and are ready for more complexity. Classes will focus on functional rather than decorative patterns\, emphasizing the techniques needed for creating stable ties and understanding how components interact. Those tying will learn how to incorporate play and body manipulation to dive deeper into creating connected\, intentional scenes. Those being tied will learn assessment skills necessary to evaluate stamina and strength in a variety of positions and shapes. Upon completing this series\, students will be prepared for nuanced conversations on individual risk profiles and strategic thinking on pattern construction. \nIn order to benefit from this class\, those tying should be able to confidently use a non-collapsing single column and double column tie\, use simple frictions like munters and half-hitches\, and understand how and when to use forward versus reverse tension. Those being tied should be comfortable stating their rope style preferences and communicating their physical and emotional experiences while in rope. \nThese classes are crafted for partnered learning; attendees need to sign up in pairs. Tying pairs must commit to all classes in the series. Prerequisites\, gear requirements\, and expectations are outlined on the ticketing page. Class dates are 3/15\, 4/19\, and 5/17 from 11am to 2pm.
URL:https://ropeinseattle.com/event/techniques-in-tying-intermediate-series-workshop/2026-03-15/
LOCATION:Subspace
CATEGORIES:Classes and Workshops
ATTACH;FMTTYPE=image/png:https://ropeinseattle.com/wp-content/uploads/2026/03/Bight-Bight-Collective-Final-4.png
END:VEVENT
BEGIN:VEVENT
DTSTART;TZID=America/Los_Angeles:20260314T183000
DTEND;TZID=America/Los_Angeles:20260314T203000
DTSTAMP:20260420T071021
CREATED:20260313T133132Z
LAST-MODIFIED:20260313T133132Z
UID:10000812-1773513000-1773520200@ropeinseattle.com
SUMMARY:Crab Tie
DESCRIPTION:This rope workshop will be a hand-on class with active participation and rope tying. We will start by establishing aesthetic guidelines and principles for our ties as an overarching theme of the intermediate series. We will focus on a) modular tying\, b) intentionality\, c) nawajiri management\, and d) philosophy of minimalism\, model-centric photography\, and wabi-sabi aesthetics. The Crab Tie class will include explicit instruction on: \n\n\nManaging reverse tensions \n\n\nManaging kannukis / cinches \n\n\nThe main principle we will focus on is managing nawajiri effectively with intentionality. We will be tying similar shapes with various lengths of rope. \nPrerequisites: Single column\, experience with basic chest harness\, basic understandings of tension and rope placement. \nRequirements:  at least 4 hanks of rope at different lengths. ~30\, ~20\, ~15\, ~12.
URL:https://ropeinseattle.com/event/crab-tie/
LOCATION:House of Knotty\, 3100 Airport Way S\, Seattle\, WA\, United States
CATEGORIES:Classes and Workshops
ATTACH;FMTTYPE=image/jpeg:https://ropeinseattle.com/wp-content/uploads/2026/03/crab-tie.jpg
END:VEVENT
BEGIN:VEVENT
DTSTART;TZID=America/Los_Angeles:20260314T150000
DTEND;TZID=America/Los_Angeles:20260314T180000
DTSTAMP:20260420T071021
CREATED:20260304T020552Z
LAST-MODIFIED:20260304T020552Z
UID:10000208-1773500400-1773511200@ropeinseattle.com
SUMMARY:OlyRope Peer-to-Peer Skillshare (March)
DESCRIPTION:Queer- and neurodivergent-centered rope skillshare in Olympia. Learn\, practice\, and connect in a low-pressure\, consent-forward environment. All experience levels welcome! \n## What’s New This Time?\nAdvance ticketing will be *required* for the first time at this event! RSVPs alone will be meaningless (of course\, feel free to RSVP on FetLife to let your friends know you’ll be there!). Please don’t hesitate to ask T (info@OlyRope.com) if you need a discounted or zero-cost ticket. \nThe topic of this skillshare is TBD\, but will be self-tie friendly! \nFor more details\, visit the Forbidden Tickets link (“event website” button).
URL:https://ropeinseattle.com/event/olyrope-peer-to-peer-skillshare-march/
LOCATION:Sparrow Studios\, 207 Washington Street Northeast\, Olympia\, Washington\, 98501\, United States
CATEGORIES:Classes and Workshops
END:VEVENT
BEGIN:VEVENT
DTSTART;TZID=America/Los_Angeles:20260307T140000
DTEND;TZID=America/Los_Angeles:20260307T170000
DTSTAMP:20260420T071021
CREATED:20260302T025150Z
LAST-MODIFIED:20260302T025420Z
UID:10000146-1772892000-1772902800@ropeinseattle.com
SUMMARY:ECTA Shibari Jam
DESCRIPTION:This is an open gym shibari session for folks to practice skills they already know\, to share knowledge and techniques\, and to build and connect with other folks in the shibari rope community. This is not a play party\, but rather a place to hone your shibari skills. We have plenty of hard points available\, and a lovely red curtain backdrop for folks wanting to get pictures.
URL:https://ropeinseattle.com/event/ecta-shibari-jam/2026-03-07/
LOCATION:ECTA (Emerald City Trapeze Arts)\, 2702 6th Ave S\, Seattle\, WA\, 98134\, United States
CATEGORIES:Jams and Parties
END:VEVENT
BEGIN:VEVENT
DTSTART;TZID=America/Los_Angeles:20260303T183000
DTEND;TZID=America/Los_Angeles:20260303T200000
DTSTAMP:20260420T071021
CREATED:20260302T023321Z
LAST-MODIFIED:20260302T024405Z
UID:10000015-1772562600-1772568000@ropeinseattle.com
SUMMARY:Beginner Shibari
DESCRIPTION:Shibari is the Japanese-inspired practice of aesthetic rope bondage. In this foundational session\, students will learn fundamental ties and techniques to begin their rope journey. Though fundamental\, these techniques can be combined in uncountable ways to produce elaborate shapes and scenarios. Besides learning technical skills\, we will focus on rope bondage as a movement and acrobatic art\, with emphasis on flow\, aesthetics\, and partner connection. This class is appropriate for students that wish to learn shibari as a performing art\, or as a private practice. Attendees can attend solo or as a couple. \nHosted out of a circus school\, this class is ideal for folks that want to explore shibari in a non-kink environment.
URL:https://ropeinseattle.com/event/beginner-shibari/2026-03-03/
LOCATION:ECTA (Emerald City Trapeze Arts)\, 2702 6th Ave S\, Seattle\, WA\, 98134\, United States
CATEGORIES:Classes and Workshops
ATTACH;FMTTYPE=image/png:https://ropeinseattle.com/wp-content/uploads/2026/03/703d8cf9-0eb3-427b-a198-8396c742ac42_Main.png
END:VEVENT
BEGIN:VEVENT
DTSTART;VALUE=DATE:20260301
DTEND;VALUE=DATE:20260302
DTSTAMP:20260420T071021
CREATED:20260301T174139Z
LAST-MODIFIED:20260301T180246Z
UID:10000013-1772323200-1772409599@ropeinseattle.com
SUMMARY:Launch Day!
DESCRIPTION:This is our launch day! You can see the event page here to see the default template for listings.
URL:https://ropeinseattle.com/event/launch-day/
LOCATION:WA
CATEGORIES:Virtual
END:VEVENT
END:VCALENDAR